Package: Rqc Version: 1.42.0 Command: chmod a+r Rqc -R && E:\biocbuild\bbs-3.21-bioc\R\bin\R.exe CMD build --keep-empty-dirs --no-resave-data Rqc StartedAt: 2025-08-14 21:51:42 -0400 (Thu, 14 Aug 2025) EndedAt: 2025-08-14 21:53:54 -0400 (Thu, 14 Aug 2025) EllapsedTime: 131.8 seconds RetCode: 0 Status: OK PackageFile: Rqc_1.42.0.tar.gz PackageFileSize: 628 KiB