Package: RolDE Version: 1.12.0 Command: E:\biocbuild\bbs-3.21-bioc\R\bin\R.exe CMD check --no-multiarch --install=check:RolDE.install-out.txt --library=E:\biocbuild\bbs-3.21-bioc\R\library --no-vignettes --timings RolDE_1.12.0.tar.gz StartedAt: 2025-08-15 06:17:30 -0400 (Fri, 15 Aug 2025) EndedAt: 2025-08-15 06:22:54 -0400 (Fri, 15 Aug 2025) EllapsedTime: 323.9 seconds RetCode: 0 Status: OK CheckDir: RolDE.Rcheck Warnings: 0