Package: RolDE Version: 1.12.0 Command: /home/biocbuild/R/R/bin/R CMD check --install=check:RolDE.install-out.txt --library=/home/biocbuild/R/R/site-library --no-vignettes --timings RolDE_1.12.0.tar.gz StartedAt: 2025-10-14 13:31:20 -0000 (Tue, 14 Oct 2025) EndedAt: 2025-10-14 13:37:24 -0000 (Tue, 14 Oct 2025) EllapsedTime: 364.5 seconds RetCode: 0 Status: OK CheckDir: RolDE.Rcheck Warnings: 0