Package: RolDE Version: 1.12.0 Command: /Library/Frameworks/R.framework/Resources/bin/R CMD build --keep-empty-dirs --no-resave-data RolDE StartedAt: 2025-04-21 17:29:14 -0400 (Mon, 21 Apr 2025) EndedAt: 2025-04-21 17:29:29 -0400 (Mon, 21 Apr 2025) EllapsedTime: 15.2 seconds RetCode: 0 Status: OK PackageFile: RolDE_1.12.0.tar.gz PackageFileSize: 1.267 MiB