Package: RnaSeqSampleSize Version: 2.18.0 Command: /Library/Frameworks/R.framework/Resources/bin/R CMD INSTALL RnaSeqSampleSize StartedAt: 2025-09-25 16:46:53 -0400 (Thu, 25 Sep 2025) EndedAt: 2025-09-25 16:47:00 -0400 (Thu, 25 Sep 2025) EllapsedTime: 7.7 seconds RetCode: 1 Status: ERROR