Package: RnBeads Version: 2.26.0 Command: /Library/Frameworks/R.framework/Resources/bin/R CMD build --keep-empty-dirs --no-resave-data RnBeads StartedAt: 2025-10-13 22:06:36 -0400 (Mon, 13 Oct 2025) EndedAt: 2025-10-13 22:12:02 -0400 (Mon, 13 Oct 2025) EllapsedTime: 326.4 seconds RetCode: 0 Status: OK PackageFile: RnBeads_2.26.0.tar.gz PackageFileSize: 7.557 MiB