Package: Rmmquant Version: 1.26.0 Command: /home/biocbuild/R/R/bin/R CMD INSTALL Rmmquant StartedAt: 2025-10-13 20:53:53 -0000 (Mon, 13 Oct 2025) EndedAt: 2025-10-13 20:55:20 -0000 (Mon, 13 Oct 2025) EllapsedTime: 86.2 seconds RetCode: 0 Status: OK