Package: Rmmquant Version: 1.26.0 Command: /home/biocbuild/R/R/bin/R CMD build --keep-empty-dirs --no-resave-data Rmmquant StartedAt: 2025-10-14 04:06:39 -0000 (Tue, 14 Oct 2025) EndedAt: 2025-10-14 04:08:34 -0000 (Tue, 14 Oct 2025) EllapsedTime: 115.1 seconds RetCode: 0 Status: OK PackageFile: Rmmquant_1.26.0.tar.gz PackageFileSize: 45.96 KiB