Package: RiboDiPA Version: 1.16.0 Command: /home/biocbuild/R/R/bin/R CMD INSTALL RiboDiPA StartedAt: 2025-09-29 20:54:59 -0000 (Mon, 29 Sep 2025) EndedAt: 2025-09-29 20:56:12 -0000 (Mon, 29 Sep 2025) EllapsedTime: 72.5 seconds RetCode: 0 Status: OK