Package: RiboDiPA Version: 1.16.0 Command: /home/biocbuild/R/R/bin/R CMD check --install=check:RiboDiPA.install-out.txt --library=/home/biocbuild/R/R/site-library --no-vignettes --timings RiboDiPA_1.16.0.tar.gz StartedAt: 2025-10-03 13:25:45 -0000 (Fri, 03 Oct 2025) EndedAt: 2025-10-03 13:46:11 -0000 (Fri, 03 Oct 2025) EllapsedTime: 1225.8 seconds RetCode: 0 Status: OK CheckDir: RiboDiPA.Rcheck Warnings: 0