Package: RiboDiPA Version: 1.16.0 Command: /home/biocbuild/R/R/bin/R CMD build --keep-empty-dirs --no-resave-data RiboDiPA StartedAt: 2025-09-30 04:35:04 -0000 (Tue, 30 Sep 2025) EndedAt: 2025-09-30 04:43:40 -0000 (Tue, 30 Sep 2025) EllapsedTime: 516.2 seconds RetCode: 0 Status: OK PackageFile: RiboDiPA_1.16.0.tar.gz PackageFileSize: 1.685 MiB