Package: RiboDiPA Version: 1.16.0 Command: /Library/Frameworks/R.framework/Resources/bin/R CMD check --install=check:RiboDiPA.install-out.txt --library=/Library/Frameworks/R.framework/Resources/library --no-vignettes --timings RiboDiPA_1.16.0.tar.gz StartedAt: 2025-10-15 09:51:08 -0400 (Wed, 15 Oct 2025) EndedAt: 2025-10-15 10:04:04 -0400 (Wed, 15 Oct 2025) EllapsedTime: 775.8 seconds RetCode: 0 Status: OK CheckDir: RiboDiPA.Rcheck Warnings: 0