Package: RiboDiPA Version: 1.16.0 Command: rm -rf RiboDiPA.buildbin-libdir && mkdir RiboDiPA.buildbin-libdir && /Users/biocbuild/BBS/utils/build-universal.sh RiboDiPA_1.16.0.tar.gz /Library/Frameworks/R.framework/Resources/bin/R RiboDiPA.buildbin-libdir StartedAt: 2025-10-15 20:07:59 -0400 (Wed, 15 Oct 2025) EndedAt: 2025-10-15 20:09:03 -0400 (Wed, 15 Oct 2025) EllapsedTime: 64.8 seconds RetCode: 0 Status: OK PackageFile: RiboDiPA_1.16.0.tgz PackageFileSize: 1.538 MiB