Package: RiboCrypt Version: 1.14.0 Command: chmod a+r RiboCrypt -R && E:\biocbuild\bbs-3.21-bioc\R\bin\R.exe CMD build --keep-empty-dirs --no-resave-data RiboCrypt StartedAt: 2025-08-14 21:45:38 -0400 (Thu, 14 Aug 2025) EndedAt: 2025-08-14 21:48:21 -0400 (Thu, 14 Aug 2025) EllapsedTime: 163.4 seconds RetCode: 0 Status: OK PackageFile: RiboCrypt_1.14.0.tar.gz PackageFileSize: 12.22 MiB