Package: RiboCrypt Version: 1.14.1 Command: /Library/Frameworks/R.framework/Resources/bin/R CMD INSTALL RiboCrypt StartedAt: 2025-10-13 16:13:42 -0400 (Mon, 13 Oct 2025) EndedAt: 2025-10-13 16:15:29 -0400 (Mon, 13 Oct 2025) EllapsedTime: 106.6 seconds RetCode: 0 Status: OK