Package: RiboCrypt Version: 1.14.1 Command: /Library/Frameworks/R.framework/Resources/bin/R CMD check --install=check:RiboCrypt.install-out.txt --library=/Library/Frameworks/R.framework/Resources/library --no-vignettes --timings RiboCrypt_1.14.1.tar.gz StartedAt: 2025-10-14 09:12:25 -0400 (Tue, 14 Oct 2025) EndedAt: 2025-10-14 09:24:10 -0400 (Tue, 14 Oct 2025) EllapsedTime: 704.9 seconds RetCode: 0 Status: OK CheckDir: RiboCrypt.Rcheck Warnings: 0