Package: RiboCrypt Version: 1.14.1 Command: rm -rf RiboCrypt.buildbin-libdir && mkdir RiboCrypt.buildbin-libdir && /Users/biocbuild/BBS/utils/build-universal.sh RiboCrypt_1.14.1.tar.gz /Library/Frameworks/R.framework/Resources/bin/R RiboCrypt.buildbin-libdir StartedAt: 2025-10-14 14:33:44 -0400 (Tue, 14 Oct 2025) EndedAt: 2025-10-14 14:36:11 -0400 (Tue, 14 Oct 2025) EllapsedTime: 147.3 seconds RetCode: 0 Status: OK PackageFile: RiboCrypt_1.14.1.tgz PackageFileSize: 12.62 MiB