Package: Rhtslib Version: 3.4.0 Command: set _R_INSTALL_TIME_PATCHES_=no&& E:\biocbuild\bbs-3.21-bioc\R\bin\R.exe CMD INSTALL Rhtslib StartedAt: 2025-08-14 15:21:01 -0400 (Thu, 14 Aug 2025) EndedAt: 2025-08-14 15:22:35 -0400 (Thu, 14 Aug 2025) EllapsedTime: 93.4 seconds RetCode: 0 Status: OK