Package: Rhtslib Version: 3.4.0 Command: /home/biocbuild/bbs-3.21-bioc/R/bin/R CMD INSTALL Rhtslib StartedAt: 2025-10-15 15:02:52 -0400 (Wed, 15 Oct 2025) EndedAt: 2025-10-15 15:04:21 -0400 (Wed, 15 Oct 2025) EllapsedTime: 89.1 seconds RetCode: 0 Status: OK