Package: Rhtslib Version: 3.4.0 Command: /home/biocbuild/bbs-3.21-bioc/R/bin/R CMD check --install=check:Rhtslib.install-out.txt --library=/home/biocbuild/bbs-3.21-bioc/R/site-library --timings Rhtslib_3.4.0.tar.gz StartedAt: 2025-10-16 02:50:58 -0400 (Thu, 16 Oct 2025) EndedAt: 2025-10-16 02:51:15 -0400 (Thu, 16 Oct 2025) EllapsedTime: 17.0 seconds RetCode: 0 Status: OK CheckDir: Rhtslib.Rcheck Warnings: 0