Package: Rhtslib Version: 3.4.0 Command: /home/biocbuild/R/R/bin/R CMD build --keep-empty-dirs --no-resave-data Rhtslib StartedAt: 2025-10-14 04:02:18 -0000 (Tue, 14 Oct 2025) EndedAt: 2025-10-14 04:04:39 -0000 (Tue, 14 Oct 2025) EllapsedTime: 140.0 seconds RetCode: 0 Status: OK PackageFile: Rhtslib_3.4.0.tar.gz PackageFileSize: 4.935 MiB