Package: Rhisat2 Version: 1.24.0 Command: E:\biocbuild\bbs-3.21-bioc\R\bin\R.exe CMD INSTALL Rhisat2 StartedAt: 2025-08-14 16:51:40 -0400 (Thu, 14 Aug 2025) EndedAt: 2025-08-14 16:57:10 -0400 (Thu, 14 Aug 2025) EllapsedTime: 329.4 seconds RetCode: 0 Status: OK