Package: Rhisat2 Version: 1.24.0 Command: rm -rf Rhisat2.buildbin-libdir && mkdir Rhisat2.buildbin-libdir && E:\biocbuild\bbs-3.21-bioc\R\bin\R.exe CMD INSTALL --build --library=Rhisat2.buildbin-libdir Rhisat2_1.24.0.tar.gz StartedAt: 2025-08-15 10:06:29 -0400 (Fri, 15 Aug 2025) EndedAt: 2025-08-15 10:12:09 -0400 (Fri, 15 Aug 2025) EllapsedTime: 339.4 seconds RetCode: 0 Status: OK PackageFile: Rhisat2_1.24.0.zip PackageFileSize: 19.31 MiB