Package: Rhisat2 Version: 1.24.0 Command: /Library/Frameworks/R.framework/Resources/bin/R CMD build --keep-empty-dirs --no-resave-data Rhisat2 StartedAt: 2025-10-13 22:00:46 -0400 (Mon, 13 Oct 2025) EndedAt: 2025-10-13 22:06:36 -0400 (Mon, 13 Oct 2025) EllapsedTime: 349.3 seconds RetCode: 0 Status: OK PackageFile: Rhisat2_1.24.0.tar.gz PackageFileSize: 6.745 MiB