Package: Rhisat2 Version: 1.24.0 Command: rm -rf Rhisat2.buildbin-libdir && mkdir Rhisat2.buildbin-libdir && /Users/biocbuild/BBS/utils/build-universal.sh Rhisat2_1.24.0.tar.gz /Library/Frameworks/R.framework/Resources/bin/R Rhisat2.buildbin-libdir StartedAt: 2025-10-14 14:33:29 -0400 (Tue, 14 Oct 2025) EndedAt: 2025-10-14 14:40:02 -0400 (Tue, 14 Oct 2025) EllapsedTime: 392.6 seconds RetCode: 0 Status: OK PackageFile: Rhisat2_1.24.0.tgz PackageFileSize: 1.2 MiB