Package: Rhisat2 Version: 1.24.0 Command: /Library/Frameworks/R.framework/Resources/bin/R CMD build --keep-empty-dirs --no-resave-data Rhisat2 StartedAt: 2025-04-21 18:10:08 -0400 (Mon, 21 Apr 2025) EndedAt: 2025-04-21 18:13:05 -0400 (Mon, 21 Apr 2025) EllapsedTime: 177.0 seconds RetCode: 0 Status: OK PackageFile: Rhisat2_1.24.0.tar.gz PackageFileSize: 6.745 MiB