Package: RgnTX Version: 1.10.0 Command: /home/biocbuild/R/R/bin/R CMD INSTALL RgnTX StartedAt: 2025-10-13 21:17:35 -0000 (Mon, 13 Oct 2025) EndedAt: 2025-10-13 21:18:32 -0000 (Mon, 13 Oct 2025) EllapsedTime: 56.5 seconds RetCode: 0 Status: OK