Package: RgnTX Version: 1.10.0 Command: /home/biocbuild/R/R/bin/R CMD check --install=check:RgnTX.install-out.txt --library=/home/biocbuild/R/R/site-library --no-vignettes --timings RgnTX_1.10.0.tar.gz StartedAt: 2025-10-14 13:15:33 -0000 (Tue, 14 Oct 2025) EndedAt: 2025-10-14 13:27:01 -0000 (Tue, 14 Oct 2025) EllapsedTime: 687.9 seconds RetCode: 0 Status: OK CheckDir: RgnTX.Rcheck Warnings: 0