Package: Rfastp Version: 1.18.0 Command: /Library/Frameworks/R.framework/Resources/bin/R CMD check --install=check:Rfastp.install-out.txt --library=/Library/Frameworks/R.framework/Resources/library --no-vignettes --timings Rfastp_1.18.0.tar.gz StartedAt: 2025-10-15 09:37:41 -0400 (Wed, 15 Oct 2025) EndedAt: 2025-10-15 09:38:36 -0400 (Wed, 15 Oct 2025) EllapsedTime: 55.2 seconds RetCode: 0 Status: WARNINGS CheckDir: Rfastp.Rcheck Warnings: 1