Package: ReportingTools Version: 2.48.0 Command: /Library/Frameworks/R.framework/Resources/bin/R CMD check --install=check:ReportingTools.install-out.txt --library=/Library/Frameworks/R.framework/Resources/library --no-vignettes --timings ReportingTools_2.48.0.tar.gz StartedAt: 2025-10-14 09:02:47 -0400 (Tue, 14 Oct 2025) EndedAt: 2025-10-14 09:23:45 -0400 (Tue, 14 Oct 2025) EllapsedTime: 1258.0 seconds RetCode: 0 Status: OK CheckDir: ReportingTools.Rcheck Warnings: 0