Package: RegionalST Version: 1.6.0 Command: rm -rf RegionalST.buildbin-libdir && mkdir RegionalST.buildbin-libdir && E:\biocbuild\bbs-3.21-bioc\R\bin\R.exe CMD INSTALL --build --library=RegionalST.buildbin-libdir RegionalST_1.6.0.tar.gz StartedAt: 2025-08-15 10:04:53 -0400 (Fri, 15 Aug 2025) EndedAt: 2025-08-15 10:05:41 -0400 (Fri, 15 Aug 2025) EllapsedTime: 47.9 seconds RetCode: 0 Status: OK PackageFile: RegionalST_1.6.0.zip PackageFileSize: 2.02 MiB