Package: RegionalST Version: 1.6.0 Command: /home/biocbuild/bbs-3.21-bioc/R/bin/R CMD check --install=check:RegionalST.install-out.txt --library=/home/biocbuild/bbs-3.21-bioc/R/site-library --timings RegionalST_1.6.0.tar.gz StartedAt: 2025-10-16 02:44:51 -0400 (Thu, 16 Oct 2025) EndedAt: 2025-10-16 02:50:38 -0400 (Thu, 16 Oct 2025) EllapsedTime: 346.5 seconds RetCode: 0 Status: OK CheckDir: RegionalST.Rcheck Warnings: 0