Package: RegionalST Version: 1.6.0 Command: /home/biocbuild/R/R/bin/R CMD INSTALL RegionalST StartedAt: 2025-10-13 21:18:26 -0000 (Mon, 13 Oct 2025) EndedAt: 2025-10-13 21:19:06 -0000 (Mon, 13 Oct 2025) EllapsedTime: 40.4 seconds RetCode: 0 Status: OK