Package: RegionalST Version: 1.6.0 Command: /Library/Frameworks/R.framework/Resources/bin/R CMD check --install=check:RegionalST.install-out.txt --library=/Library/Frameworks/R.framework/Resources/library --no-vignettes --timings RegionalST_1.6.0.tar.gz StartedAt: 2025-04-21 21:10:19 -0400 (Mon, 21 Apr 2025) EndedAt: 2025-04-21 21:12:04 -0400 (Mon, 21 Apr 2025) EllapsedTime: 104.2 seconds RetCode: 0 Status: OK CheckDir: RegionalST.Rcheck Warnings: 0