Package: RegionalST Version: 1.6.0 Command: /Library/Frameworks/R.framework/Resources/bin/R CMD INSTALL RegionalST StartedAt: 2025-10-13 18:20:46 -0400 (Mon, 13 Oct 2025) EndedAt: 2025-10-13 18:21:18 -0400 (Mon, 13 Oct 2025) EllapsedTime: 32.6 seconds RetCode: 0 Status: OK