Package: RegionalST Version: 1.6.0 Command: /Library/Frameworks/R.framework/Resources/bin/R CMD check --install=check:RegionalST.install-out.txt --library=/Library/Frameworks/R.framework/Resources/library --no-vignettes --timings RegionalST_1.6.0.tar.gz StartedAt: 2025-10-15 09:22:11 -0400 (Wed, 15 Oct 2025) EndedAt: 2025-10-15 09:27:32 -0400 (Wed, 15 Oct 2025) EllapsedTime: 321.4 seconds RetCode: 0 Status: OK CheckDir: RegionalST.Rcheck Warnings: 0