Package: RegionalST Version: 1.6.0 Command: /Library/Frameworks/R.framework/Resources/bin/R CMD build --keep-empty-dirs --no-resave-data RegionalST StartedAt: 2025-10-14 07:35:22 -0400 (Tue, 14 Oct 2025) EndedAt: 2025-10-14 07:37:36 -0400 (Tue, 14 Oct 2025) EllapsedTime: 133.9 seconds RetCode: 0 Status: OK PackageFile: RegionalST_1.6.0.tar.gz PackageFileSize: 4.362 MiB