Package: ReducedExperiment Version: 1.0.2 Command: E:\biocbuild\bbs-3.21-bioc\R\bin\R.exe CMD INSTALL ReducedExperiment StartedAt: 2025-08-14 16:58:23 -0400 (Thu, 14 Aug 2025) EndedAt: 2025-08-14 17:00:47 -0400 (Thu, 14 Aug 2025) EllapsedTime: 144.0 seconds RetCode: 0 Status: OK