Package: ReducedExperiment Version: 1.0.2 Command: chmod a+r ReducedExperiment -R && E:\biocbuild\bbs-3.21-bioc\R\bin\R.exe CMD build --keep-empty-dirs --no-resave-data ReducedExperiment StartedAt: 2025-08-14 21:40:33 -0400 (Thu, 14 Aug 2025) EndedAt: 2025-08-14 21:44:52 -0400 (Thu, 14 Aug 2025) EllapsedTime: 258.2 seconds RetCode: 0 Status: OK PackageFile: ReducedExperiment_1.0.2.tar.gz PackageFileSize: 1.723 MiB