Package: ReducedExperiment Version: 1.0.2 Command: rm -rf ReducedExperiment.buildbin-libdir && mkdir ReducedExperiment.buildbin-libdir && E:\biocbuild\bbs-3.21-bioc\R\bin\R.exe CMD INSTALL --build --library=ReducedExperiment.buildbin-libdir ReducedExperiment_1.0.2.tar.gz StartedAt: 2025-08-15 10:04:47 -0400 (Fri, 15 Aug 2025) EndedAt: 2025-08-15 10:08:40 -0400 (Fri, 15 Aug 2025) EllapsedTime: 232.7 seconds RetCode: 0 Status: OK PackageFile: ReducedExperiment_1.0.2.zip PackageFileSize: 2.488 MiB