Package: RedeR Version: 3.4.0 Command: E:\biocbuild\bbs-3.21-bioc\R\bin\R.exe CMD check --no-multiarch --install=check:RedeR.install-out.txt --library=E:\biocbuild\bbs-3.21-bioc\R\library --no-vignettes --timings RedeR_3.4.0.tar.gz StartedAt: 2025-08-15 05:57:34 -0400 (Fri, 15 Aug 2025) EndedAt: 2025-08-15 05:58:30 -0400 (Fri, 15 Aug 2025) EllapsedTime: 55.8 seconds RetCode: 0 Status: OK CheckDir: RedeR.Rcheck Warnings: 0