Package: Rdisop Version: 1.68.0 Command: rm -rf Rdisop.buildbin-libdir && mkdir Rdisop.buildbin-libdir && /Users/biocbuild/BBS/utils/build-universal.sh Rdisop_1.68.0.tar.gz /Library/Frameworks/R.framework/Resources/bin/R Rdisop.buildbin-libdir StartedAt: 2025-04-21 22:48:10 -0400 (Mon, 21 Apr 2025) EndedAt: 2025-04-21 22:48:23 -0400 (Mon, 21 Apr 2025) EllapsedTime: 13.3 seconds RetCode: 0 Status: OK PackageFile: Rdisop_1.68.0.tgz PackageFileSize: 233.1 KiB