Package: Rcpi Version: 1.44.0 Command: /home/biocbuild/bbs-3.21-bioc/R/bin/R CMD check --install=check:Rcpi.install-out.txt --library=/home/biocbuild/bbs-3.21-bioc/R/site-library --timings Rcpi_1.44.0.tar.gz StartedAt: 2025-10-16 02:41:07 -0400 (Thu, 16 Oct 2025) EndedAt: 2025-10-16 02:42:59 -0400 (Thu, 16 Oct 2025) EllapsedTime: 112.3 seconds RetCode: 0 Status: OK CheckDir: Rcpi.Rcheck Warnings: 0