Package: Rcollectl Version: 1.8.0 Maintainer: Vincent Carey MaintainerEmail: stvjc at channing.harvard.edu git_url: https://git.bioconductor.org/packages/Rcollectl git_branch: RELEASE_3_21 git_last_commit: 1b03bdc git_last_commit_date: 2025-04-15 13:13:20 -0400 (Tue, 15 Apr 2025)