Package: Rbwa Version: 1.12.0 Command: /home/biocbuild/R/R/bin/R CMD check --install=check:Rbwa.install-out.txt --library=/home/biocbuild/R/R/site-library --no-vignettes --timings Rbwa_1.12.0.tar.gz StartedAt: 2025-10-14 13:03:18 -0000 (Tue, 14 Oct 2025) EndedAt: 2025-10-14 13:03:38 -0000 (Tue, 14 Oct 2025) EllapsedTime: 20.0 seconds RetCode: 0 Status: WARNINGS CheckDir: Rbwa.Rcheck Warnings: 1