Package: Rbowtie2 Version: 2.14.0 Command: /Library/Frameworks/R.framework/Resources/bin/R CMD INSTALL Rbowtie2 StartedAt: 2025-10-13 15:29:40 -0400 (Mon, 13 Oct 2025) EndedAt: 2025-10-13 15:37:21 -0400 (Mon, 13 Oct 2025) EllapsedTime: 461.5 seconds RetCode: 0 Status: OK