Package: Rbowtie2 Version: 2.14.0 Command: /Library/Frameworks/R.framework/Resources/bin/R CMD build --keep-empty-dirs --no-resave-data Rbowtie2 StartedAt: 2025-10-13 21:52:31 -0400 (Mon, 13 Oct 2025) EndedAt: 2025-10-13 22:00:24 -0400 (Mon, 13 Oct 2025) EllapsedTime: 472.9 seconds RetCode: 0 Status: OK PackageFile: Rbowtie2_2.14.0.tar.gz PackageFileSize: 1.711 MiB