Package: Rbowtie2 Version: 2.14.0 Command: /Library/Frameworks/R.framework/Resources/bin/R CMD check --install=check:Rbowtie2.install-out.txt --library=/Library/Frameworks/R.framework/Resources/library --no-vignettes --timings Rbowtie2_2.14.0.tar.gz StartedAt: 2025-04-21 22:55:36 -0400 (Mon, 21 Apr 2025) EndedAt: 2025-04-21 22:56:19 -0400 (Mon, 21 Apr 2025) EllapsedTime: 43.1 seconds RetCode: 0 Status: OK CheckDir: Rbowtie2.Rcheck Warnings: 0