Package: Rbowtie2 Version: 2.14.0 Command: /home/biocbuild/R/R/bin/R CMD INSTALL Rbowtie2 StartedAt: 2025-10-13 20:29:01 -0000 (Mon, 13 Oct 2025) EndedAt: 2025-10-13 20:37:33 -0000 (Mon, 13 Oct 2025) EllapsedTime: 511.7 seconds RetCode: 0 Status: OK