Package: Rbowtie2 Version: 2.14.0 Command: /Library/Frameworks/R.framework/Resources/bin/R CMD INSTALL Rbowtie2 StartedAt: 2025-10-13 16:03:17 -0400 (Mon, 13 Oct 2025) EndedAt: 2025-10-13 16:06:54 -0400 (Mon, 13 Oct 2025) EllapsedTime: 217.0 seconds RetCode: 0 Status: OK